BEGIN:VCALENDAR
VERSION:2.0
PRODID:-//Kirchehochdrei - ECPv6.15.16//NONSGML v1.0//EN
CALSCALE:GREGORIAN
METHOD:PUBLISH
X-WR-CALNAME:Kirchehochdrei
X-ORIGINAL-URL:https://kirchehochdrei.de
X-WR-CALDESC:Veranstaltungen für Kirchehochdrei
REFRESH-INTERVAL;VALUE=DURATION:PT1H
X-Robots-Tag:noindex
X-PUBLISHED-TTL:PT1H
BEGIN:VTIMEZONE
TZID:Europe/Berlin
BEGIN:DAYLIGHT
TZOFFSETFROM:+0100
TZOFFSETTO:+0200
TZNAME:CEST
DTSTART:20240331T010000
END:DAYLIGHT
BEGIN:STANDARD
TZOFFSETFROM:+0200
TZOFFSETTO:+0100
TZNAME:CET
DTSTART:20241027T010000
END:STANDARD
BEGIN:DAYLIGHT
TZOFFSETFROM:+0100
TZOFFSETTO:+0200
TZNAME:CEST
DTSTART:20250330T010000
END:DAYLIGHT
BEGIN:STANDARD
TZOFFSETFROM:+0200
TZOFFSETTO:+0100
TZNAME:CET
DTSTART:20251026T010000
END:STANDARD
BEGIN:DAYLIGHT
TZOFFSETFROM:+0100
TZOFFSETTO:+0200
TZNAME:CEST
DTSTART:20260329T010000
END:DAYLIGHT
BEGIN:STANDARD
TZOFFSETFROM:+0200
TZOFFSETTO:+0100
TZNAME:CET
DTSTART:20261025T010000
END:STANDARD
END:VTIMEZONE
BEGIN:VEVENT
DTSTART;TZID=Europe/Berlin:20251118T190000
DTEND;TZID=Europe/Berlin:20251118T210000
DTSTAMP:20260420T201940
CREATED:20251021T084450Z
LAST-MODIFIED:20251021T084450Z
UID:4176-1763492400-1763499600@kirchehochdrei.de
SUMMARY:Hauskreis Eggenertal
DESCRIPTION:Wer Interesse hat\, ist herzlich eingeladen! Weitere Infos finden Sie hier.
URL:https://kirchehochdrei.de/event/hauskreis-eggenertal-14
CATEGORIES:Hauskreis
END:VEVENT
END:VCALENDAR